BEGIN:VCALENDAR
VERSION:2.0
PRODID:-//eventon.com NONSGML v1.0//EN
CALSCALE:GREGORIAN
METHOD:PUBLISH
BEGIN:VEVENT
UID:69e7abd456fc1
DTSTAMP:20260421T165444Z
DTSTART:20240327T173000Z
DTEND:20240327T183000Z
LOCATION:Eglise Saint Julien - Meyrin Rte de Meyrin 301\,  1217 Meyrin
SUMMARY:✝ Mercedi Saint - Genève
DESCRIPTION:أربعاء أيوب، تبريك الزيت 18h00 : les confe
 ssions seront assurées avant et après la prière 18h30 : أربعاء أ
 وب&nbsp;Rituel de la Lampe suivi de la bénédiction de l’huile de gu
 rison et l’office de la Sainte Croix.&nbsp;L’huile bénit sera distrib
 uée. Quelques information pratiques pour arriver à l’Eglise de St Julie
 n à[..]\nhttps://maronite.ch/events/mercedi-saint-geneve-2024/
URL:https://maronite.ch/events/mercedi-saint-geneve-2024/
END:VEVENT
END:VCALENDAR